Workbook

Sheet Plot Radius Calculations
A1: Calculating a Circular Plot
A3: Plot Area (A) = π x r^2
A4: 4,356 square feet = 3.14 x r^2
A5: 4,356 square feet / 3.14 = r^2
A6: 1,387.26 square feet = r^2
A7: Square root (1,387.26 square feet) = r
A8: 37.24 feet = r or the radius of a 10th acre plot
A10: Average Number of trees per acre | B10: 181
A11: Average Basal Area per acre for the 7 plots | B11: =average('Plot 2'!G26,'Plot 1'!G10,'Plot 3'!G26,'Plot 4'!G35,'Plot 5'!G14,'Plot 6'!G15,'Plot 7'!G15) -> 174.60579
B13: Plot 1 | C13: Plot 2 | D13: Plot 3 | E13: Plot 4 | F13: Plot 5 | G13: Plot 6 | H13: Plot 7 | K13: Plot 1 | L13: Plot 2 | M13: Plot 3 | N13: Plot 4 | O13: Plot 5 | P13: Plot 6 | Q13: Plot 7
A14: Deviation basal area from the average | B14: ='Plot 1'!G10-$B$11 -> -85.86921 | C14: ='Plot 2'!$G26-$B$11 -> -35.367948 | D14: ='Plot 3'!$G26-$B$11 -> 186.00691 | E14: ='Plot 4'!$G35-$B$11 -> 178.13825 | F14: ='Plot 5'!$G14-$B$11 -> -48.825642 | G14: ='Plot 6'!$G15-$B$11 -> -98.640297 | H14: ='Plot 7'!$G15-$B$11 -> -95.442071 | J14: BA per acre | K14: 88.74 | L14: 139.24 | M14: 360.61 | N14: 352.74 | O14: 125.78 | P14: 75.97 | Q14: 79.16
J15: Trees per acre | K15: 80 | L15: 240 | M15: 240 | N15: 330 | O15: 120 | P15: 130 | Q15: 130
J30: Average BA per acre | K30: =average(K14:Q14) -> 174.60571
J31: Average Trees per acre | K31: =average(K15:Q15) -> 181.42857

Sheet Plot 1
A1: Plot | B1: Basal Area Factor | C1: Tree ID # | D1: Tree Radius (in) | E1: Tree Diameter (in) | F1: Basal Area (Sq Ft) | G1: Per Acre BA | H1: Trees Per Acre (TPA)
A2: 1 | B2: 10 | C2: 1 | D2: 8.5 | E2: =D2*2 -> 17 | F2: =0.005454*(E2^2) -> 1.576206
C3: 2 | D3: 3.2 | E3: =D3*2 -> 6.4 | F3: =0.005454*(E3^2) -> 0.22339584
C4: 3 | D4: 2 | E4: =D4*2 -> 4 | F4: =0.005454*(E4^2) -> 0.087264
C5: 4 | D5: 4 | E5: =D5*2 -> 8 | F5: =0.005454*(E5^2) -> 0.349056
C6: 5 | D6: 9.9 | E6: =D6*2 -> 19.8 | F6: =0.005454*(E6^2) -> 2.1381862
C7: 6 | D7: 5 | E7: =D7*2 -> 10 | F7: =0.005454*(E7^2) -> 0.5454
C8: 7 | D8: 7 | E8: =D8*2 -> 14 | F8: =0.005454*(E8^2) -> 1.068984
C9: 8 | D9: 11.5 | E9: =D9*2 -> 23 | F9: =0.005454*(E9^2) -> 2.885166
F10: =SUM(F2:F9) -> 8.873658 | G10: =F10*10 -> 88.73658 | H10: =(COUNT(C2:C41)*10) -> 80

Sheet Plot 2
A1: Plot | B1: Basal Area Factor | C1: Tree ID # | D1: Tree Radius (in) | E1: Tree Diameter (in) | F1: Basal Area (Sq Ft) | G1: Per Acre BA | H1: Trees Per Acre (TPA)
A2: 2 | B2: 10 | C2: 1 | D2: 7.5924 | E2: =D2*2 -> 15.1848 | F2: =0.005454*(E2^2) -> 1.2575732
C3: 2 | D3: 3.444 | E3: =D3*2 -> 6.888 | F3: =0.005454*(E3^2) -> 0.25876254
C4: 3 | D4: 4.8768 | E4: =D4*2 -> 9.7536 | F4: =0.005454*(E4^2) -> 0.51885382
C5: 4 | D5: 6.762 | E5: =D5*2 -> 13.524 | F5: =0.005454*(E5^2) -> 0.99752883
C6: 5 | D6: 4.8276 | E6: =D6*2 -> 9.6552 | F6: =0.005454*(E6^2) -> 0.50843763
C7: 6 | D7: 2.6304 | E7: =D7*2 -> 5.2608 | F7: =0.005454*(E7^2) -> 0.15094499
C8: 7 | D8: 2.7732 | E8: =D8*2 -> 5.5464 | F8: =0.005454*(E8^2) -> 0.16777896
C9: 8 | D9: 3.1416 | E9: =D9*2 -> 6.2832 | F9: =0.005454*(E9^2) -> 0.2153163
C10: 9 | D10: 2.4348 | E10: =D10*2 -> 4.8696 | F10: =0.005454*(E10^2) -> 0.12933072
C11: 10 | D11: 4.7388 | E11: =D11*2 -> 9.4776 | F11: =0.005454*(E11^2) -> 0.48990501
C12: 11 | D12: 2.2992 | E12: =D12*2 -> 4.5984 | F12: =0.005454*(E12^2) -> 0.11532637
C13: 12 | D13: 2 | E13: =D13*2 -> 4 | F13: =0.005454*(E13^2) -> 0.087264
C14: 13 | D14: 2.6928 | E14: =D14*2 -> 5.3856 | F14: =0.005454*(E14^2) -> 0.15819156
... C25: 24 | D25: 6.7404 | E25: =D25*2 -> 13.4808 | F25: =0.005454*(E25^2) -> 0.99116616
F26: =SUM(F2:F25) -> 13.923784 | G26: =F26*10 -> 139.23784 | H26: =(COUNT(C2:C41)*10) -> 240

Sheet Plot 3
A1: Plot | B1: Basal Area Factor | C1: Tree ID # | D1: Tree Radius (in) | E1: Tree Diameter (in) | F1: Basal Area (Sq Ft) | G1: Per Acre BA | H1: Trees Per Acre (TPA)
A2: 3 | B2: 10 | C2: 1 | D2: 14.2 | E2: =D2*2 -> 28.4 | F2: =0.005454*(E2^2) -> 4.3989782
C3: 2 | D3: 15.8 | E3: =D3*2 -> 31.6 | F3: =0.005454*(E3^2) -> 5.4461462
C4: 3 | D4: 9.8 | E4: =D4*2 -> 19.6 | F4: =0.005454*(E4^2) -> 2.0952086
C5: 4 | D5: 6.5 | E5: =D5*2 -> 13 | F5: =0.005454*(E5^2) -> 0.921726
C6: 5 | D6: 4.4 | E6: =D6*2 -> 8.8 | F6: =0.005454*(E6^2) -> 0.42235776
C7: 6 | D7: 5.8 | E7: =D7*2 -> 11.6 | F7: =0.005454*(E7^2) -> 0.73389024
C8: 7 | D8: 2.9 | E8: =D8*2 -> 5.8 | F8: =0.005454*(E8^2) -> 0.18347256
C9: 8 | D9: 6.8 | E9: =D9*2 -> 13.6 | F9: =0.005454*(E9^2) -> 1.0087718
C10: 9 | D10: 8.4 | E10: =D10*2 -> 16.8 | F10: =0.005454*(E10^2) -> 1.539337
C11: 10 | D11: 5.8 | E11: =D11*2 -> 11.6 | F11: =0.005454*(E11^2) -> 0.73389024
C12: 11 | D12: 6.9 | E12: =D12*2 -> 13.8 | F12: =0.005454*(E12^2) -> 1.0386598
C13: 12 | D13: 7.9 | E13: =D13*2 -> 15.8 | F13: =0.005454*(E13^2) -> 1.3615366
C14: 13 | D14: 7.7 | E14: =D14*2 -> 15.4 | F14: =0.005454*(E14^2) -> 1.2934706
... C25: 24 | D25: 7.7 | E25: =D25*2 -> 15.4 | F25: =0.005454*(E25^2) -> 1.2934706
F26: =SUM(F2:F25) -> 36.06127 | G26: =F26*10 -> 360.6127 | H26: =(COUNT(C2:C25)*10) -> 240

Sheet Plot 4
A1: Plot | B1: Basal Area Factor | C1: Tree ID # | D1: Tree Radius (in) | E1: Tree Diameter (in) | F1: Basal Area (Sq Ft) | G1: Per Acre BA | H1: Trees Per Acre (TPA)
A2: 4 | B2: 10 | C2: 1 | D2: 4.8 | E2: =D2*2 -> 9.6 | F2: =0.005454*(E2^2) -> 0.50264064
C3: 2 | D3: 3.444 | E3: =D3*2 -> 6.888 | F3: =0.005454*(E3^2) -> 0.25876254
C4: 3 | D4: 4.5 | E4: =D4*2 -> 9 | F4: =0.005454*(E4^2) -> 0.441774
C5: 4 | D5: 6.762 | E5: =D5*2 -> 13.524 | F5: =0.005454*(E5^2) -> 0.99752883
C6: 5 | D6: 5.5 | E6: =D6*2 -> 11 | F6: =0.005454*(E6^2) -> 0.659934
C7: 6 | D7: 3.4 | E7: =D7*2 -> 6.8 | F7: =0.005454*(E7^2) -> 0.25219296
C8: 7 | D8: 4.8 | E8: =D8*2 -> 9.6 | F8: =0.005454*(E8^2) -> 0.50264064
C9: 8 | D9: 10.2 | E9: =D9*2 -> 20.4 | F9: =0.005454*(E9^2) -> 2.2697366
C10: 9 | D10: 4.4 | E10: =D10*2 -> 8.8 | F10: =0.005454*(E10^2) -> 0.42235776
C11: 10 | D11: 7.8 | E11: =D11*2 -> 15.6 | F11: =0.005454*(E11^2) -> 1.3272854
C12: 11 | D12: 5.5 | E12: =D12*2 -> 11 | F12: =0.005454*(E12^2) -> 0.659934
C13: 12 | D13: 6.8 | E13: =D13*2 -> 13.6 | F13: =0.005454*(E13^2) -> 1.0087718
C14: 13 | D14: 5.7 | E14: =D14*2 -> 11.4 | F14: =0.005454*(E14^2) -> 0.70880184
... C34: 33 | D34: 3.186 | E34: =D34*2 -> 6.372 | F34: =0.005454*(E34^2) -> 0.2214454
F35: =SUM(F2:F34) -> 35.274404 | G35: =F35*10 -> 352.74404 | H35: =(COUNT(C2:C34)*10) -> 330

Sheet Plot 5
A1: Plot | B1: Basal Area Factor | C1: Tree ID # | D1: Tree Radius (in) | E1: Tree Diameter (in) | F1: Basal Area (Sq Ft) | G1: Per Acre BA | H1: Trees Per Acre (TPA)
A2: 5 | B2: 10 | C2: 1 | D2: 8 | E2: =D2*2 -> 16 | F2: =0.005454*(E2^2) -> 1.396224
C3: 2 | D3: 4.5 | E3: =D3*2 -> 9 | F3: =0.005454*(E3^2) -> 0.441774
C4: 3 | D4: 6.5 | E4: =D4*2 -> 13 | F4: =0.005454*(E4^2) -> 0.921726
C5: 4 | D5: 4.5 | E5: =D5*2 -> 9 | F5: =0.005454*(E5^2) -> 0.441774
C6: 5 | D6: 5.6 | E6: =D6*2 -> 11.2 | F6: =0.005454*(E6^2) -> 0.68414976
C7: 6 | D7: 8.9 | E7: =D7*2 -> 17.8 | F7: =0.005454*(E7^2) -> 1.7280454
C8: 7 | D8: 8.4 | E8: =D8*2 -> 16.8 | F8: =0.005454*(E8^2) -> 1.539337
C9: 8 | D9: 4 | E9: =D9*2 -> 8 | F9: =0.005454*(E9^2) -> 0.349056
C10: 9 | D10: 2.4 | E10: =D10*2 -> 4.8 | F10: =0.005454*(E10^2) -> 0.12566016
C11: 10 | D11: 5.9 | E11: =D11*2 -> 11.8 | F11: =0.005454*(E11^2) -> 0.75941496
C12: 11 | D12: 9.9 | E12: =D12*2 -> 19.8 | F12: =0.005454*(E12^2) -> 2.1381862
C13: 12 | D13: 9.7 | E13: =D13*2 -> 19.4 | F13: =0.005454*(E13^2) -> 2.0526674
F14: =SUM(F2:F13) -> 12.578015 | G14: =F14*10 -> 125.78015 | H14: =(COUNT(C2:C13)*10) -> 120

Sheet Plot 6
A1: Plot | B1: Basal Area Factor | C1: Tree ID # | D1: Tree Radius (in) | E1: Tree Diameter (in) | F1: Basal Area (Sq Ft) | G1: Per Acre BA | H1: Trees Per Acre (TPA)
A2: 6 | B2: 10 | C2: 1 | D2: 4.8 | E2: =D2*2 -> 9.6 | F2: =0.005454*(E2^2) -> 0.50264064
C3: 2 | D3: 5.8 | E3: =D3*2 -> 11.6 | F3: =0.005454*(E3^2) -> 0.73389024
C4: 3 | D4: 4 | E4: =D4*2 -> 8 | F4: =0.005454*(E4^2) -> 0.349056
C5: 4 | D5: 3 | E5: =D5*2 -> 6 | F5: =0.005454*(E5^2) -> 0.196344
C6: 5 | D6: 5.5 | E6: =D6*2 -> 11 | F6: =0.005454*(E6^2) -> 0.659934
C7: 6 | D7: 2.3 | E7: =D7*2 -> 4.6 | F7: =0.005454*(E7^2) -> 0.11540664
C8: 7 | D8: 3.4 | E8: =D8*2 -> 6.8 | F8: =0.005454*(E8^2) -> 0.25219296
C9: 8 | D9: 4.3 | E9: =D9*2 -> 8.6 | F9: =0.005454*(E9^2) -> 0.40337784
C10: 9 | D10: 7 | E10: =D10*2 -> 14 | F10: =0.005454*(E10^2) -> 1.068984
C11: 10 | D11: 9.2 | E11: =D11*2 -> 18.4 | F11: =0.005454*(E11^2) -> 1.8465062
C12: 11 | D12: 4.8 | E12: =D12*2 -> 9.6 | F12: =0.005454*(E12^2) -> 0.50264064
C13: 12 | D13: 4.5 | E13: =D13*2 -> 9 | F13: =0.005454*(E13^2) -> 0.441774
C14: 13 | D14: 4.9 | E14: =D14*2 -> 9.8 | F14: =0.005454*(E14^2) -> 0.52380216
F15: =SUM(F2:F14) -> 7.5965494 | G15: =F15*10 -> 75.965494 | H15: =(COUNT(C2:C14)*10) -> 130

Sheet Plot 7
A1: Plot | B1: Basal Area Factor | C1: Tree ID # | D1: Tree Radius (in) | E1: Tree Diameter (in) | F1: Basal Area (Sq Ft) | G1: Per Acre BA | H1: Trees Per Acre (TPA)
A2: 7 | B2: 10 | C2: 1 | D2: 5.2 | E2: =D2*2 -> 10.4 | F2: =0.005454*(E2^2) -> 0.58990464
C3: 2 | D3: 5 | E3: =D3*2 -> 10 | F3: =0.005454*(E3^2) -> 0.5454
C4: 3 | D4: 4.5 | E4: =D4*2 -> 9 | F4: =0.005454*(E4^2) -> 0.441774
C5: 4 | D5: 4.5 | E5: =D5*2 -> 9 | F5: =0.005454*(E5^2) -> 0.441774
C6: 5 | D6: 2.5 | E6: =D6*2 -> 5 | F6: =0.005454*(E6^2) -> 0.13635
C7: 6 | D7: 4 | E7: =D7*2 -> 8 | F7: =0.005454*(E7^2) -> 0.349056
C8: 7 | D8: 7.7 | E8: =D8*2 -> 15.4 | F8: =0.005454*(E8^2) -> 1.2934706
C9: 8 | D9: 1.8 | E9: =D9*2 -> 3.6 | F9: =0.005454*(E9^2) -> 0.07068384
C10: 9 | D10: 4.5 | E10: =D10*2 -> 9 | F10: =0.005454*(E10^2) -> 0.441774
C11: 10 | D11: 8.8 | E11: =D11*2 -> 17.6 | F11: =0.005454*(E11^2) -> 1.689431
C12: 11 | D12: 8 | E12: =D12*2 -> 16 | F12: =0.005454*(E12^2) -> 1.396224
C13: 12 | D13: 1.9 | E13: =D13*2 -> 3.8 | F13: =0.005454*(E13^2) -> 0.07875576
C14: 13 | D14: 4.5 | E14: =D14*2 -> 9 | F14: =0.005454*(E14^2) -> 0.441774
F15: =SUM(F2:F14) -> 7.9163719 | G15: =F15*10 -> 79.163719 | H15: =(COUNT(C2:C41)*10) -> 130
